BEGIN:VCALENDAR
VERSION:2.0
PRODID:icalendar-ruby
CALSCALE:GREGORIAN
METHOD:PUBLISH
BEGIN:VEVENT
DTSTAMP:20260425T185512Z
UID:9-1379553@standrewandstmargaret.org
DTSTART:20261025T130000Z
DTEND:20261025T140000Z
CLASS:PUBLIC
CREATED:20260425T123445
DESCRIPTION:A traditional Holy Communion service using the 1928 Book of Com
 mon Prayer with beautiful hymns and service music.  A lively Coffee Hour 
 follows the end of the service in the undercroft.\nAll of our services may
  be viewed live at:  https://www.facebook.com/saintsofscotland/
LAST-MODIFIED:20260425T123445
LOCATION:
SUMMARY:Holy Communion with music
URL;VALUE=URI:https://standrewandstmargaret.org/events/holy-communion-with-
 music/2026-10-25
END:VEVENT
END:VCALENDAR
