BEGIN:VCALENDAR
VERSION:2.0
PRODID:icalendar-ruby
CALSCALE:GREGORIAN
METHOD:PUBLISH
BEGIN:VEVENT
DTSTAMP:20260419T132404Z
UID:188-1351522@standrewandstmargaret.org
DTSTART:20260422T233000Z
DTEND:20260423T003000Z
CLASS:PUBLIC
CREATED:20260419T074013
DESCRIPTION:
LAST-MODIFIED:20260419T074013
LOCATION:Undercroft
SUMMARY:Study on the Saints of the Church
URL;VALUE=URI:https://standrewandstmargaret.org/events/study-on-the-saints-
 of-the-church/2026-04-22
END:VEVENT
END:VCALENDAR
