BEGIN:VCALENDAR
VERSION:2.0
PRODID:icalendar-ruby
CALSCALE:GREGORIAN
METHOD:PUBLISH
BEGIN:VEVENT
DTSTAMP:20260419T165604Z
UID:188-1352266@standrewandstmargaret.org
DTSTART:20260506T233000Z
DTEND:20260507T003000Z
CLASS:PUBLIC
CREATED:20260419T112249
DESCRIPTION:
LAST-MODIFIED:20260419T112249
LOCATION:Undercroft
SUMMARY:Study on the Saints of the Church
URL;VALUE=URI:https://standrewandstmargaret.org/events/study-on-the-saints-
 of-the-church/2026-05-06
END:VEVENT
END:VCALENDAR
