BEGIN:VCALENDAR
VERSION:2.0
PRODID:icalendar-ruby
CALSCALE:GREGORIAN
METHOD:PUBLISH
BEGIN:VEVENT
DTSTAMP:20260419T183832Z
UID:188-1352267@standrewandstmargaret.org
DTSTART:20260513T233000Z
DTEND:20260514T003000Z
CLASS:PUBLIC
CREATED:20260419T112249
DESCRIPTION:
LAST-MODIFIED:20260419T112249
LOCATION:Undercroft
SUMMARY:Study on the Saints of the Church
URL;VALUE=URI:https://standrewandstmargaret.org/events/study-on-the-saints-
 of-the-church/2026-05-13
END:VEVENT
END:VCALENDAR
