BEGIN:VCALENDAR
VERSION:2.0
PRODID:icalendar-ruby
CALSCALE:GREGORIAN
METHOD:PUBLISH
BEGIN:VEVENT
DTSTAMP:20260420T050821Z
UID:188-1354505@standrewandstmargaret.org
DTSTART:20260624T233000Z
DTEND:20260625T003000Z
CLASS:PUBLIC
CREATED:20260419T222718
DESCRIPTION:
LAST-MODIFIED:20260419T222718
LOCATION:Undercroft
SUMMARY:Study on the Saints of the Church
URL;VALUE=URI:https://standrewandstmargaret.org/events/study-on-the-saints-
 of-the-church/2026-06-24
END:VEVENT
END:VCALENDAR
